BEGIN:VCALENDAR
VERSION:2.0
PRODID:-//wp-events-plugin.com//6.4.6.4//EN
TZID:Europe/Amsterdam
X-WR-TIMEZONE:Europe/Amsterdam
BEGIN:VEVENT
UID:1@all4himpraise.nl
DTSTART;TZID=Europe/Amsterdam:20231223T200000
DTEND;TZID=Europe/Amsterdam:20231223T220000
DTSTAMP:20231221T185309Z
URL:https://all4himpraise.nl/events/kerst-praise/
SUMMARY:Kerst Praise
DESCRIPTION:Kerstpraise
ATTACH;FMTTYPE=image/jpeg:https://all4himpraise.nl/wp-content/uploads/2023
 /12/Kerst-praise-2023.jpeg
LOCATION:Vaste Burchtkerk\, Orchideestraat 1\, Zwijndrecht\, 3333 SC\, Nede
 rland
X-APPLE-STRUCTURED-LOCATION;VALUE=URI;X-ADDRESS=Orchideestraat 1\, Zwijndre
 cht\, 3333 SC\, Nederland;X-APPLE-RADIUS=100;X-TITLE=Vaste Burchtkerk:geo:
 0,0
END:VEVENT
BEGIN:VTIMEZONE
TZID:Europe/Amsterdam
X-LIC-LOCATION:Europe/Amsterdam
BEGIN:STANDARD
DTSTART:20231029T020000
TZOFFSETFROM:+0200
TZOFFSETTO:+0100
TZNAME:CET
END:STANDARD
END:VTIMEZONE
END:VCALENDAR